BEGIN:VCALENDAR
VERSION:2.0
PRODID:-//Wells of Hope - ECPv6.15.17.1//NONSGML v1.0//EN
CALSCALE:GREGORIAN
METHOD:PUBLISH
X-WR-CALNAME:Wells of Hope
X-ORIGINAL-URL:https://www.wellsofhope.com
X-WR-CALDESC:Events for Wells of Hope
REFRESH-INTERVAL;VALUE=DURATION:PT1H
X-Robots-Tag:noindex
X-PUBLISHED-TTL:PT1H
BEGIN:VTIMEZONE
TZID:America/Toronto
BEGIN:DAYLIGHT
TZOFFSETFROM:-0500
TZOFFSETTO:-0400
TZNAME:EDT
DTSTART:20240310T070000
END:DAYLIGHT
BEGIN:STANDARD
TZOFFSETFROM:-0400
TZOFFSETTO:-0500
TZNAME:EST
DTSTART:20241103T060000
END:STANDARD
BEGIN:DAYLIGHT
TZOFFSETFROM:-0500
TZOFFSETTO:-0400
TZNAME:EDT
DTSTART:20250309T070000
END:DAYLIGHT
BEGIN:STANDARD
TZOFFSETFROM:-0400
TZOFFSETTO:-0500
TZNAME:EST
DTSTART:20251102T060000
END:STANDARD
BEGIN:DAYLIGHT
TZOFFSETFROM:-0500
TZOFFSETTO:-0400
TZNAME:EDT
DTSTART:20260308T070000
END:DAYLIGHT
BEGIN:STANDARD
TZOFFSETFROM:-0400
TZOFFSETTO:-0500
TZNAME:EST
DTSTART:20261101T060000
END:STANDARD
END:VTIMEZONE
BEGIN:VEVENT
DTSTART;TZID=America/Toronto:20250307T190000
DTEND;TZID=America/Toronto:20250307T220000
DTSTAMP:20260420T221539
CREATED:20251012T114313Z
LAST-MODIFIED:20251204T210323Z
UID:2916-1741374000-1741384800@www.wellsofhope.com
SUMMARY:Taste & See
DESCRIPTION:Thank you for supporting the Taste & See Fundraiser! \n\n\n\n\n\n\n\n\n\n\n\nTHANK YOU TO ALL SPONSORS!\n\n\n\nFor 16 years\, friends of Wells of Hope gathered in late February or March to celebrate the on-going campaign in Guatemala.  Whether well drilling\, school construction\, building a house or distributing donated items shipped in containers – an update was always available while the event was taking place. \n\n\n\nThanks to our  sponsors who kindly donated their delicious items and the time of one or more servers during the evening\, all attendees enjoyed every time delicious tasting booths for wine/beer and food\, while enjoying many times listening to live music. The evening always included an exciting silent auction and every year there was one or two new elements\, like the Ben and Rie’s Jewellery Table\,  the Wine Wall\, the Gift Card Roulette and who does not remember Debbie’s cookies! \n\n\n\nContact us at water@wellsofhope.com if you would like to become a sponsor and/or a vendor in 2026. \n\n\n\nA big thank you to all vendors who took part in Taste and See!
URL:https://www.wellsofhope.com/event/taste-see/
LOCATION:The Grand Olympia\, 660 Barton Street\, Stoney Creek\, Ontario\, L8E 5L6\, Canada
ATTACH;FMTTYPE=image/png:https://www.wellsofhope.com/wp-content/uploads/2025/07/Wine-Cheese-800x500-1.png
END:VEVENT
END:VCALENDAR